BEGIN:VCALENDAR
VERSION:2.0
PRODID:spatie/icalendar-generator
DESCRIPTION:Events from CERNE ASESORES
X-WR-CALDESC:Events from CERNE ASESORES
REFRESH-INTERVAL;VALUE=DURATION:PT1440M
X-PUBLISHED-TTL:PT1440M
BEGIN:VTIMEZONE
TZID:Etc/GMT-1
BEGIN:STANDARD
DTSTART:20230209T000000Z
TZOFFSETFROM:+0100
TZOFFSETTO:+0100
END:STANDARD
END:VTIMEZONE
BEGIN:VTIMEZONE
TZID:UTC
BEGIN:STANDARD
DTSTART:20250724T084802Z
TZOFFSETFROM:+0000
TZOFFSETTO:+0000
END:STANDARD
END:VTIMEZONE
BEGIN:VEVENT
UID:41-37
DTSTAMP:20260420T084802Z
SUMMARY:PAGO FRACCIONADO IRPF
LOCATION:
ORGANIZER;CN=Cerne Asesores:MAILTO:info@cerneasesores.es
DTSTART;TZID=Etc/GMT-1:20231106T000000
DTEND;TZID=Etc/GMT-1:20231106T010000
X-ALT-DESC;FMTTYPE=TEXT/HTML:Último día del 2º plazo para el pago fracci
 onado de IRPF (Renta).
CATEGORIES:Último día
URL;VALUE=URI:https://cerneasesores.es/mc-events/pago-fraccionado-irpf/
METHOD:PUBLISH
END:VEVENT
END:VCALENDAR