BEGIN:VCALENDAR
VERSION:2.0
PRODID:spatie/icalendar-generator
DESCRIPTION:Events from CERNE ASESORES
X-WR-CALDESC:Events from CERNE ASESORES
REFRESH-INTERVAL;VALUE=DURATION:PT1440M
X-PUBLISHED-TTL:PT1440M
BEGIN:VTIMEZONE
TZID:Etc/GMT-1
BEGIN:STANDARD
DTSTART:20241123T000000Z
TZOFFSETFROM:+0100
TZOFFSETTO:+0100
END:STANDARD
END:VTIMEZONE
BEGIN:VTIMEZONE
TZID:UTC
BEGIN:STANDARD
DTSTART:20250724T090002Z
TZOFFSETFROM:+0000
TZOFFSETTO:+0000
END:STANDARD
END:VTIMEZONE
BEGIN:VEVENT
UID:95-91
DTSTAMP:20260420T090002Z
SUMMARY:ÚLTIMO DÍA PRESENTACIÓN MOD.349 MENSUAL
LOCATION:
ORGANIZER;CN=Cerne Asesores:MAILTO:info@cerneasesores.es
DTSTART;TZID=Etc/GMT-1;VALUE=DATE:20250820
DTEND;TZID=Etc/GMT-1;VALUE=DATE:20250821
X-ALT-DESC;FMTTYPE=TEXT/HTML:
CATEGORIES:Último día
URL;VALUE=URI:https://cerneasesores.es/mc-events/ultimo-dia-presentacion-mo
 d-349-mensual-22/
METHOD:PUBLISH
END:VEVENT
END:VCALENDAR